BEGIN:VCALENDAR
VERSION:2.0
PRODID:-//Tukios.com/
BEGIN:VEVENT
UID:6831f2a2-d967-46b8-9385-1540440ab876@www.kimzeyfh.com
DTSTAMP:20260421T003520Z
DTSTART:20260424T183000Z
DTEND:20260424T193000Z
SUMMARY:Funeral Service
DESCRIPTION:
URL:https://www.kimzeyfh.com/obituaries/evelyn-riley
LOCATION: 213 N Main St  Mt Pleasant IA 52641
GEO:40.9685097;-91.5532801
END:VEVENT
END:VCALENDAR