BEGIN:VCALENDAR
VERSION:2.0
PRODID:-//Tukios.com/
BEGIN:VEVENT
UID:4f9f7681-94a5-44e0-ae42-6a2a5a45b83f@www.kimzeyfh.com
DTSTAMP:20260421T003637Z
DTSTART:20260423T220000Z
DTEND:20260424T000000Z
SUMMARY:Visitation with Family
DESCRIPTION:
URL:https://www.kimzeyfh.com/obituaries/evelyn-riley
LOCATION: 213 N Main St  Mt Pleasant IA 52641
GEO:40.9685097;-91.5532801
END:VEVENT
END:VCALENDAR