BEGIN:VCALENDAR
VERSION:2.0
PRODID:-//Tukios.com/
BEGIN:VEVENT
UID:5a02c117-3fe6-46b3-af85-5470e31bcf87@www.kimzeyfh.com
DTSTAMP:20260421T003621Z
DTSTART:20260423T170000Z
DTEND:20260424T010000Z
SUMMARY:Visitation
DESCRIPTION:
URL:https://www.kimzeyfh.com/obituaries/evelyn-riley
LOCATION: 213 N Main St  Mt Pleasant IA 52641
GEO:40.9685097;-91.5532801
END:VEVENT
END:VCALENDAR