BEGIN:VCALENDAR
VERSION:2.0
PRODID:-//Tukios.com/
BEGIN:VEVENT
UID:09652e71-0106-49ef-97c8-61ad16bd10d0@www.kimzeyfh.com
DTSTAMP:20260426T032539Z
DTSTART:20260429T173000Z
DTEND:20260429T183000Z
SUMMARY:Visitation
DESCRIPTION:
URL:https://www.kimzeyfh.com/obituaries/bob-roth
LOCATION:Kimzey Funeral Home 213 N Main St  Mt Pleasant IA 52641
GEO:40.9685097;-91.5532801
END:VEVENT
END:VCALENDAR