BEGIN:VCALENDAR
VERSION:2.0
PRODID:-//Tukios.com/
BEGIN:VEVENT
UID:a0e16125-b503-43ab-bd0d-03517fca7126@www.kimzeyfh.com
DTSTAMP:20260426T032123Z
DTSTART:20260429T183000Z
DTEND:20260429T193000Z
SUMMARY:Memorial Service
DESCRIPTION:
URL:https://www.kimzeyfh.com/obituaries/bob-roth
LOCATION:Kimzey Funeral Home 213 N Main St  Mt Pleasant IA 52641
GEO:40.9685097;-91.5532801
END:VEVENT
END:VCALENDAR