BEGIN:VCALENDAR
VERSION:2.0
PRODID:-//Tukios.com/
BEGIN:VEVENT
UID:23b7c16d-a895-4c4a-ab2f-d65b1281abe4@www.kimzeyfh.com
DTSTAMP:20260426T032315Z
DTSTART:20260429T193000Z
DTEND:20260429T203000Z
SUMMARY:Burial
DESCRIPTION:
URL:https://www.kimzeyfh.com/obituaries/bob-roth
LOCATION:St. Alphonsus Cemetery South Walnut Street at Old Threshers Road 
	 Mount Pleasant IA 52641
GEO:40.9530099;-91.544783
END:VEVENT
END:VCALENDAR